BEGIN:VCALENDAR
VERSION:2.0
PRODID:-//TYPO3/NONSGML Calendarize//EN
BEGIN:VEVENT
UID:calendarize-sauberes-wasser-fuer-alle
DTSTAMP:20260425T004340Z
DTSTART:20260427T160000Z
DTEND:20260427T180000Z
SUMMARY:Sauberes Wasser für alle
DESCRIPTION: 	 		 			 			 				 					 						 						 							 								 						
 		 														 															 															Sauberes Wasser gibt es n
 icht zum Nulltarif\, aber wer soll am Ende die Rechnung übernehmen? 					
 										 															Genau darüber streiten wir gerade in Brüss
 el. Zahlen künftig weiter wir Bürger:innen oder wird künftig die Ph
 arma- und Kosmetiklobby stärker in die Pflicht genommen\, deren Stoffe 
 zu mehr als 90 Prozent für die Verschmutzung unseres Wassers verantwortli
 ch sind? 															 															Für mich ist die Antwort hier gla
 sklar. 															 															Am Montag\, 27. April 2026 um 18:0
 0 Uhr steht genau diese Frage im Mittelpunkt meines Online-Streitgesprä
 chs. Gemeinsam mit dem CDU-Europaabgeordneten Oliver Schenk diskutier
 e ich\, wie fair die neuen Regeln sind und worum jetzt politisch gerungen 
 wird. Moderiert wird die Debatte von der Journalistin Katrin Pribyl. 
  															 															Es geht um nicht weniger als die Zukunft u
 nserer Gewässer und darum\, ob das Verursacherprinzip in Europa konsequen
 t umgesetzt wird.  															 															Melde dich jetzt an und
  sei dabei! 															 															Zusammen. Für unser Wasser. G
 egen die Lobby. 															 														 													 												 
 								 													 														 															Jetzt anmelden!  				
 	 															 															Entschlossene Grüße 															Eure
  Jutta Paulus 															 														 													 												 		
 			 															  														 													 												 										
X-ALT-DESC;FMTTYPE=text/html:<table border="0" cellpadding="0" cellspacing
 ="0" style="border-collapse:collapse\; width:100%"> 	<tbody> 		<tr> 			<td
  class="m--content-container" style="border-collapse:collapse\; vertical-a
 lign:top"> 			<table align="center" border="0" cellpadding="0" cellspacing
 ="0" class="m--content" style="width:580px"> 				<tbody> 					<tr> 						<
 td class="m--container" style="border-collapse:collapse\; vertical-align:t
 op"> 						<table border="0" cellpadding="0" cellspacing="0" class="m--row
 " style="width:100%"> 							<tbody> 								<tr> 									<th class="m--c
 ol" style="width:100%"> 									<table border="0" cellpadding="0" cellspa
 cing="0" style="width:100%"> 										<tbody> 											<tr> 											
 	<td style="border-collapse:collapse\; vertical-align:middle"> 											
 	<table border="0" cellpadding="0" cellspacing="0" style="width:100%"> 			
 										<tbody> 														<tr> 															<td class="fallback-in
 nerfont" style="border-collapse:collapse"> 															<p><strong>Saube
 res Wasser gibt es nicht zum Nulltarif</strong>\, aber wer soll am Ende di
 e Rechnung übernehmen?<br /> 															<br /> 															Genau d
 arüber&nbsp\;streiten&nbsp\;wir&nbsp\;gerade&nbsp\;in Brüssel.&nbsp\;<st
 rong>Zahlen künftig weiter&nbsp\;wir&nbsp\;Bürger:innen&nbsp\;oder wird 
 künftig die Pharma- und Kosmetiklobby&nbsp\;stärker in die Pflicht genom
 men</strong>\, deren Stoffe&nbsp\;zu mehr als 90 Prozent für die Verschmu
 tzung unseres Wassers verantwortlich sind?<br /> 															<br /> 			
 												Für mich ist die <strong>Antwort hier glasklar</strong>.<br /
 > 															<br /> 															Am&nbsp\;<strong>Montag\,&nbsp\;27.
  April 2026 um 18:00 Uhr</strong>&nbsp\;steht genau diese Frage im Mittelp
 unkt meines&nbsp\;Online-Streitgesprächs.&nbsp\;Gemeinsam mit&nbsp\;dem&n
 bsp\;<strong>CDU-Europaabgeordneten&nbsp\;Oliver Schenk</strong>&nbsp\;dis
 kutiere ich\, wie fair die neuen Regeln sind und worum jetzt politisch ger
 ungen wird.&nbsp\;<strong>Moderiert wird die Debatte von&nbsp\;der&nbsp\;J
 ournalistin&nbsp\;Katrin Pribyl</strong>.&nbsp\;<br /> 															<br 
 /> 															Es geht um nicht weniger als die Zukunft unserer Gewäss
 er und darum\, ob das <strong>Verursacherprinzip in Europa konsequent umge
 setzt wird</strong>.&nbsp\;<br /> 															<br /> 															Mel
 de dich jetzt an und sei dabei!<br /> 															<br /> 														
 	<strong>Zusammen.</strong>&nbsp\;<em>Für unser Wasser. Gegen die Lobby.<
 /em></p> 															</td> 														</tr> 													</tbody> 		
 										</table> 												</td> 											</tr> 										</tbody> 	
 								</table> 									</th> 								</tr> 							</tbody> 						</tabl
 e> 						</td> 					</tr> 				</tbody> 			</table> 			</td> 		</tr> 		<tr>
  			<td class="m--content-container" style="border-collapse:collapse\; ver
 tical-align:top"> 			<table align="center" border="0" cellpadding="0" cell
 spacing="0" class="m--content" style="width:580px"> 				<tbody> 					<tr> 
 						<td class="m--container" style="border-collapse:collapse\; vertical-
 align:top"> 						<table border="0" cellpadding="0" cellspacing="0" class=
 "m--row" style="width:100%"> 							<tbody> 								<tr> 									<th clas
 s="m--col" style="width:100%"> 									<table border="0" cellpadding="0" 
 cellspacing="0" style="width:100%"> 										<tbody> 											<tr> 				
 								<td style="border-collapse:collapse\; vertical-align:middle"> 				
 								<table border="0" cellpadding="0" cellspacing="0" class="m--button
 " style="border-collapse:separate"> 													<tbody> 														<tr
 > 															<td style="border-color:#e84242\; border-radius:15px\; bo
 rder-style:solid\; border-width:2px"><a class="fallback-buttonfont" href="
 https://newsletter.jutta-paulus.eu/c/258/9123988/1123/0/1060829/8163/44985
 /d27b3b56bd.html" target="_blank">Jetzt anmelden! </a></td> 														
 </tr> 													</tbody> 												</table> 												</td> 							
 				</tr> 										</tbody> 									</table> 									</th> 								</tr
 > 							</tbody> 						</table> 						</td> 					</tr> 				</tbody> 			</
 table> 			</td> 		</tr> 		<tr> 			<td class="m--content-container" style="
 border-collapse:collapse\; vertical-align:top"> 			<table align="center" b
 order="0" cellpadding="0" cellspacing="0" class="m--content" style="width:
 580px"> 				<tbody> 					<tr> 						<td class="m--container" style="border
 -collapse:collapse\; vertical-align:top"> 						<table border="0" cellpadd
 ing="0" cellspacing="0" class="m--row m--row-breakable" style="width:100%"
 > 							<tbody> 								<tr> 									<th class="m--col" style="width:50%
 "> 									<table border="0" cellpadding="0" cellspacing="0" style="width
 :100%"> 										<tbody> 											<tr> 												<td style="border-co
 llapse:collapse\; vertical-align:middle"> 												<table border="0" ce
 llpadding="0" cellspacing="0" style="width:100%"> 													<tbody> 			
 											<tr> 															<td class="fallback-innerfont" style="borde
 r-collapse:collapse"> 															<p>Entschlossene Grüße<br /> 						
 									Eure Jutta Paulus</p> 															</td> 														</tr> 		
 											</tbody> 												</table> 												</td> 											</tr
 > 										</tbody> 									</table> 									</th> 									<th class="
 m--col" style="width:50%"> 									<table border="0" cellpadding="0" cell
 spacing="0" style="width:100%"> 										<tbody> 											<tr> 								
 				<td style="border-collapse:collapse\; vertical-align:middle"> 								
 				<table border="0" cellpadding="0" cellspacing="0"> 													<tbody
 > 														<tr> 															<td style="border-collapse:collapse\; 
 vertical-align:top">&nbsp\;</td> 														</tr> 													</tbody>
  												</table> 												</td> 											</tr> 										</tbody
 > 									</table> 									</th> 								</tr> 							</tbody> 						</t
 able> 						</td> 					</tr> 				</tbody> 			</table> 			</td> 		</tr> 	</
 tbody> </table>
LOCATION:
END:VEVENT
END:VCALENDAR
