BEGIN:VCALENDAR
VERSION:2.0
PRODID:-//TYPO3/NONSGML Calendarize//EN
BEGIN:VEVENT
UID:calendarize-zurueck-zur-atomkraft-40-jahre-tschernobyl
DTSTAMP:20260421T064045Z
DTSTART:20260422T180000Z
DTEND:20260422T190000Z
SUMMARY:Zurück zur Atomkraft? 40 Jahre Tschernobyl
DESCRIPTION: 	 		 			  		 		 			 			 				 					 						 						 							 			
 					 									  								 							 						 						 					 				 			 			 		 		 
 															 															Jetzt zum Webinar anmelden. 															
 				 																					  																					 																					 	
  																											 																											Jetzt zum Webinar 
 anmelden 																											 																										 										
 						 														 														 															  														 				
 								Jetzt zum Webinar anmelden.  																										 										
 						 																											 																											Hallo  				
 																							 																											der Super-GAU von Tsche
 rnobyl im April 1986 war eine der schwersten Umweltkatastrophen der Geschi
 chte mit Folgen\, die bis heute in Europa spürbar sind. Sie zeigt eindrü
 cklich die Risiken der Atomkraft. 																											 												
 															40 Jahre später erlebt diese antiquierte Debatte ein fragw
 ürdiges Comeback: Mini-Atomkraftwerke werden als Lösung präsentiert\, w
 ährend zentrale Probleme oft ausgeblendet bleiben: hohe Kosten\, ungelö
 ste Endlagerung\, Sicherheitsrisiken und neue Abhängigkeiten etwa von Rus
 sland. 																											 																											Gemeinsam mi
 t dem Umwelt- und Technikhistoriker Prof. Dr. Frank Uekötter blicken wir
  zurück und diskutieren\, welche Lehren wir heute ziehen müssen. 							
 																				 																											🗓 22. April 2026 						
 																					🕖 20:00–21:00 Uhr 																											 		
 																									Ich freue mich auf Euch! 																								
 	Jetzt zum Webinar anmelden.  																										 																	
 																											 																											Entschlossene Grüß
 e 																											Eure Jutta Paulus 																											
 																		 																											  																									
X-ALT-DESC;FMTTYPE=text/html:<table border="0" cellpadding="0" cellspacing
 ="0" style="border-collapse:collapse\; width:100%"> 	<tbody> 		<tr> 			<td
  class="m--content-container" style="border-collapse:collapse\; vertical-a
 lign:top">&nbsp\;</td> 		</tr> 		<tr> 			<td class="m--content-container" 
 style="border-collapse:collapse\; vertical-align:top"> 			<table align="ce
 nter" border="0" cellpadding="0" cellspacing="0" class="m--content" style=
 "width:580px"> 				<tbody> 					<tr> 						<td class="m--container" style=
 "border-collapse:collapse\; vertical-align:top"> 						<table border="0" c
 ellpadding="0" cellspacing="0" class="m--row" style="width:100%"> 							<
 tbody> 								<tr> 									<th class="m--col" style="width:100%">&nbsp\;
 </th> 								</tr> 							</tbody> 						</table> 						</td> 					</tr> 
 				</tbody> 			</table> 			</td> 		</tr> 		<tr> 			<td class="m--content-
 container" style="border-collapse:collapse\; vertical-align:top"> 			<tabl
 e align="center" border="0" cellpadding="0" cellspacing="0" class="m--cont
 ent" style="width:580px"> 				<tbody> 					<tr> 						<td class="m--contai
 ner" style="border-collapse:collapse\; vertical-align:top"> 						<table b
 order="0" cellpadding="0" cellspacing="0" class="m--row" style="width:100%
 "> 							<tbody> 								<tr> 									<th class="m--col" style="width:10
 0%"> 									<table border="0" cellpadding="0" cellspacing="0" style="wid
 th:100%"> 										<tbody> 											<tr> 												<td style="border-
 collapse:collapse\; vertical-align:middle"> 												<table border="0" 
 cellpadding="0" cellspacing="0" class="m--button" style="border-collapse:s
 eparate"> 													<tbody> 														<tr> 															<td style
 ="border-color:#e84242\; border-radius:15px\; border-style:solid\; border-
 width:2px"> 															<p><a class="fallback-buttonfont" href="https:/
 /newsletter.jutta-paulus.eu/c/258/9103381/1123/0/1060829/8188/44386/8f3c05
 cc31.html" target="_blank">Jetzt zum Webinar anmelden.</a></p> 											
 				</td> 														</tr> 													</tbody> 												</table> 	
 											</td> 											</tr> 										</tbody> 									</table> 			
 						</th> 								</tr> 							</tbody> 						</table> 						</td> 					
 </tr> 				</tbody> 			</table> 			</td> 		</tr> 		<tr> 			<td class="m--co
 ntent-container" style="border-collapse:collapse\; vertical-align:top"> 		
 	<table align="center" border="0" cellpadding="0" cellspacing="0" class="m
 --content" style="width:580px"> 				<tbody> 					<tr> 						<td class="m--
 container" style="border-collapse:collapse\; vertical-align:top"> 						<t
 able border="0" cellpadding="0" cellspacing="0" class="m--row m--row-break
 able" style="width:100%"> 							<tbody> 								<tr> 									<th class="
 m--col" style="width:50%"> 									<table border="0" cellpadding="0" cell
 spacing="0" style="width:100%"> 										<tbody> 											<tr> 								
 				<td style="border-collapse:collapse\; vertical-align:middle"> 								
 				<table border="0" cellpadding="0" cellspacing="0" style="width:100%"> 
 													<tbody> 														<tr> 															<td class="m--conte
 nt-container" style="border-collapse:collapse\; vertical-align:top"> 					
 										<table align="center" border="0" cellpadding="0" cellspacing="0"
  class="m--content" style="width:580px"> 																<tbody> 									
 								<tr> 																		<td class="m--container" style="border-coll
 apse:collapse\; vertical-align:top"> 																		<table border="0" c
 ellpadding="0" cellspacing="0" class="m--row m--row-breakable" style="widt
 h:100%"> 																			<tbody> 																				<tr> 													
 								<th class="m--col" style="width:50%">&nbsp\;</th> 																
 					<th class="m--col" style="width:50%"> 																					<table bor
 der="0" cellpadding="0" cellspacing="0" style="width:100%"> 														
 								<tbody> 																							<tr> 																								<td st
 yle="border-collapse:collapse\; vertical-align:bottom"> 																		
 						<table border="0" cellpadding="0" cellspacing="0"> 																	
 								<tbody> 																										<tr> 																											
 <td class="fallback-innerfont" style="border-collapse:collapse"> 									
 																		<h1><a href="https://newsletter.jutta-paulus.eu/c/258/91
 03381/1123/0/1060829/8188/44386/8f3c05cc31.html">Jetzt zum Webinar anmelde
 n</a></h1> 																											</td> 																										</tr
 > 																									</tbody> 																								</table> 					
 																			</td> 																							</tr> 																				
 		</tbody> 																					</table> 																					</th> 						
 														</tr> 																			</tbody> 																		</table>
  																		</td> 																	</tr> 																</tbody> 	
 														</table> 															</td> 														</tr> 										
 				<tr> 															<td class="m--content-container" style="border-col
 lapse:collapse\; vertical-align:top">&nbsp\;</td> 														</tr> 				
 										<tr> 															<td class="m--content-container" style="bord
 er-collapse:collapse\; vertical-align:top"> 															<table align="c
 enter" border="0" cellpadding="0" cellspacing="0" class="m--content" style
 ="width:580px"> 																<tbody> 																	<tr> 												
 						<td class="m--container" style="border-collapse:collapse\; vertical-
 align:top"> 																		<table border="0" cellpadding="0" cellspacin
 g="0" class="m--row" style="width:100%"> 																			<tbody> 						
 														<tr> 																					<th class="m--col" style="width:10
 0%"> 																					<table border="0" cellpadding="0" cellspacing="0
 " style="width:100%"> 																						<tbody> 																						
 	<tr> 																								<td style="border-collapse:collapse\; vertic
 al-align:middle"> 																								<table border="0" cellpadding="0
 " cellspacing="0" class="m--button" style="border-collapse:separate"> 				
 																					<tbody> 																										<tr> 														
 													<td style="border-color:#e84242\; border-radius:15px\; border
 -style:solid\; border-width:2px"><a class="fallback-buttonfont" href="http
 s://newsletter.jutta-paulus.eu/c/258/9103381/1123/0/1060829/8188/44386/8f3
 c05cc31.html" target="_blank">Jetzt zum Webinar anmelden. </a></td> 						
 																				</tr> 																									</tbody> 														
 										</table> 																								</td> 																							</
 tr> 																						</tbody> 																					</table> 									
 												</th> 																				</tr> 																			</tbody> 		
 																</table> 																		</td> 																	</tr> 		
 														</tbody> 															</table> 															</td> 						
 								</tr> 														<tr> 															<td class="m--content-cont
 ainer" style="border-collapse:collapse\; vertical-align:top"> 												
 			<table align="center" border="0" cellpadding="0" cellspacing="0" class=
 "m--content" style="width:580px"> 																<tbody> 																
 	<tr> 																		<td class="m--container" style="border-collapse:co
 llapse\; vertical-align:top"> 																		<table border="0" cellpadd
 ing="0" cellspacing="0" class="m--row" style="width:100%"> 															
 				<tbody> 																				<tr> 																					<th class="m--co
 l" style="width:100%"> 																					<table border="0" cellpadding=
 "0" cellspacing="0" style="width:100%"> 																						<tbody> 				
 																			<tr> 																								<td style="border-collapse
 :collapse\; vertical-align:middle"> 																								<table border=
 "0" cellpadding="0" cellspacing="0" style="height:713px\; width:550px"> 		
 																							<tbody> 																										<tr> 												
 															<td class="fallback-innerfont" style="border-collapse:colla
 pse"> 																											<h2>Hallo&nbsp\;<br /> 																		
 									<br /> 																											der <strong>Super-GAU von Tsche
 rnobyl im April 1986</strong> war eine der schwersten Umweltkatastrophen d
 er Geschichte mit Folgen\, die bis heute in Europa spürbar sind. Sie zeig
 t eindrücklich die Risiken der Atomkraft.<br /> 																									
 		<br /> 																											<strong>40 Jahre später </strong>erle
 bt diese antiquierte Debatte ein fragwürdiges Comeback: Mini-Atomkraftwer
 ke werden als Lösung präsentiert\, während zentrale Probleme oft ausgeb
 lendet bleiben:&nbsp\;<strong>hohe Kosten\, ungelöste Endlagerung\, Siche
 rheitsrisiken und neue Abhängigkeiten etwa von Russland</strong>.<br /> 	
 																										<br /> 																											Gemeinsam mit 
 dem <strong>Umwelt- und Technikhistoriker Prof. Dr. Frank Uekötter&nbsp\;
 </strong>blicken wir zurück und diskutieren\, welche Lehren wir heute zie
 hen müssen.<br /> 																											<br /> 																					
 						🗓 22. April 2026<br /> 																											🕖 20:00–21
 :00 Uhr<br /> 																											<br /> 																										
 	Ich freue mich auf Euch!</h2> 																											</td> 										
 																</tr> 																									</tbody> 																		
 						</table> 																								</td> 																							</tr> 
 																						</tbody> 																					</table> 													
 								</th> 																				</tr> 																			</tbody> 						
 												</table> 																		</td> 																	</tr> 						
 										</tbody> 															</table> 															</td> 										
 				</tr> 														<tr> 															<td class="m--content-containe
 r" style="border-collapse:collapse\; vertical-align:top"> 															<
 table align="center" border="0" cellpadding="0" cellspacing="0" class="m--
 content" style="width:580px"> 																<tbody> 																	<tr
 > 																		<td class="m--container" style="border-collapse:collap
 se\; vertical-align:top"> 																		<table border="0" cellpadding=
 "0" cellspacing="0" class="m--row" style="width:100%"> 																			
 <tbody> 																				<tr> 																					<th class="m--col" s
 tyle="width:100%"> 																					<table border="0" cellpadding="0" 
 cellspacing="0" style="width:100%"> 																						<tbody> 								
 															<tr> 																								<td style="border-collapse:col
 lapse\; vertical-align:middle"> 																								<table border="0" 
 cellpadding="0" cellspacing="0" class="m--button" style="border-collapse:s
 eparate"> 																									<tbody> 																										<tr> 
 																											<td style="border-color:#e84242\; border-radius
 :15px\; border-style:solid\; border-width:2px"><a class="fallback-buttonfo
 nt" href="https://newsletter.jutta-paulus.eu/c/258/9103381/1123/0/1060829/
 8188/44386/8f3c05cc31.html" target="_blank">Jetzt zum Webinar anmelden. </
 a></td> 																										</tr> 																									</tbody> 
 																								</table> 																								</td> 											
 												</tr> 																						</tbody> 																					</ta
 ble> 																					</th> 																				</tr> 																
 			</tbody> 																		</table> 																		</td> 											
 						</tr> 																</tbody> 															</table> 													
 		</td> 														</tr> 														<tr> 															<td class="m
 --content-container" style="border-collapse:collapse\; vertical-align:top"
 > 															<table align="center" border="0" cellpadding="0" cellspac
 ing="0" class="m--content" style="width:580px"> 																<tbody> 		
 															<tr> 																		<td class="m--container" style="bord
 er-collapse:collapse\; vertical-align:top"> 																		<table borde
 r="0" cellpadding="0" cellspacing="0" class="m--row m--row-breakable" styl
 e="width:100%"> 																			<tbody> 																				<tr> 						
 															<th class="m--col" style="width:50%"> 																					
 <table border="0" cellpadding="0" cellspacing="0" style="width:100%"> 				
 																		<tbody> 																							<tr> 																				
 				<td style="border-collapse:collapse\; vertical-align:middle"> 								
 																<table border="0" cellpadding="0" cellspacing="0" style="w
 idth:100%"> 																									<tbody> 																										<tr
 > 																											<td class="fallback-innerfont" style="border-
 collapse:collapse"> 																											<p>Entschlossene Grüße<br
  /> 																											Eure Jutta Paulus</p> 																					
 						</td> 																										</tr> 																									</tbo
 dy> 																								</table> 																								</td> 							
 																</tr> 																						</tbody> 																					
 </table> 																					</th> 																					<th class="m--col
 " style="width:50%"> 																					<table border="0" cellpadding="0
 " cellspacing="0" style="width:100%"> 																						<tbody> 						
 																	<tr> 																								<td style="border-collapse:c
 ollapse\; vertical-align:middle"> 																								<table border="0
 " cellpadding="0" cellspacing="0"> 																									<tbody> 						
 																				<tr> 																											<td style="border-coll
 apse:collapse\; vertical-align:top">&nbsp\;</td> 																									
 	</tr> 																									</tbody> 																								</table> 
 																								</td> 																							</tr> 															
 							</tbody> 																					</table> 																					</th> 	
 																			</tr> 																			</tbody> 																		</t
 able> 																		</td> 																	</tr> 																</tbo
 dy> 															</table> 															</td> 														</tr> 					
 								</tbody> 												</table> 												</td> 											</tr> 	
 									</tbody> 									</table> 									</th> 								</tr> 							</
 tbody> 						</table> 						</td> 					</tr> 				</tbody> 			</table> 			<
 /td> 		</tr> 	</tbody> </table>
LOCATION:
END:VEVENT
END:VCALENDAR
